BEGIN:VCALENDAR
VERSION:2.0
PRODID:-//sylogist.com - ECPv6.15.20//NONSGML v1.0//EN
CALSCALE:GREGORIAN
METHOD:PUBLISH
X-WR-CALNAME:sylogist.com
X-ORIGINAL-URL:https://www.sylogist.com
X-WR-CALDESC:Events for sylogist.com
REFRESH-INTERVAL;VALUE=DURATION:PT1H
X-Robots-Tag:noindex
X-PUBLISHED-TTL:PT1H
BEGIN:VTIMEZONE
TZID:UTC
BEGIN:STANDARD
TZOFFSETFROM:+0000
TZOFFSETTO:+0000
TZNAME:UTC
DTSTART:20230101T000000
END:STANDARD
END:VTIMEZONE
BEGIN:VEVENT
DTSTART;VALUE=DATE:20241106
DTEND;VALUE=DATE:20241108
DTSTAMP:20260423T044822
CREATED:20240717T001619Z
LAST-MODIFIED:20251110T105415Z
UID:8582-1730851200-1731023999@www.sylogist.com
SUMMARY:SylogistEd - OKSTE Conference
DESCRIPTION:
URL:https://www.sylogist.com/event/sylogisted-okste-conference/
LOCATION:Tulsa\, Tulsa\, OK\, USA\, Tulsa\, OK\, United States
CATEGORIES:Conference
ATTACH;FMTTYPE=image/webp:https://www.sylogist.com/wp-content/uploads/2024/07/ed-post.webp
END:VEVENT
END:VCALENDAR