BEGIN:VCALENDAR
VERSION:2.0
PRODID:-//sylogist.com - ECPv6.15.20//NONSGML v1.0//EN
CALSCALE:GREGORIAN
METHOD:PUBLISH
X-WR-CALNAME:sylogist.com
X-ORIGINAL-URL:https://www.sylogist.com
X-WR-CALDESC:Events for sylogist.com
REFRESH-INTERVAL;VALUE=DURATION:PT1H
X-Robots-Tag:noindex
X-PUBLISHED-TTL:PT1H
BEGIN:VTIMEZONE
TZID:UTC
BEGIN:STANDARD
TZOFFSETFROM:+0000
TZOFFSETTO:+0000
TZNAME:UTC
DTSTART:20230101T000000
END:STANDARD
END:VTIMEZONE
BEGIN:VEVENT
DTSTART;TZID=UTC:20241023T120000
DTEND;TZID=UTC:20241023T150000
DTSTAMP:20260423T045237
CREATED:20240716T235919Z
LAST-MODIFIED:20240716T235919Z
UID:8568-1729684800-1729695600@www.sylogist.com
SUMMARY:Payroll by Sylogist - Partner Product Certification Training for Payroll
DESCRIPTION:This training will cover all aspects of the Payroll product required for Partners to become proficient and certified in the product.
URL:https://www.sylogist.com/event/payroll-by-sylogist-partner-product-certification-training-for-payroll-6/
LOCATION:Webcast
CATEGORIES:Training,Webcast
ATTACH;FMTTYPE=image/webp:https://www.sylogist.com/wp-content/uploads/2024/07/Untitled-design-3.webp
END:VEVENT
END:VCALENDAR