BEGIN:VCALENDAR
VERSION:2.0
PRODID:-//sylogist.com - ECPv6.15.20//NONSGML v1.0//EN
CALSCALE:GREGORIAN
METHOD:PUBLISH
X-WR-CALNAME:sylogist.com
X-ORIGINAL-URL:https://www.sylogist.com
X-WR-CALDESC:Events for sylogist.com
REFRESH-INTERVAL;VALUE=DURATION:PT1H
X-Robots-Tag:noindex
X-PUBLISHED-TTL:PT1H
BEGIN:VTIMEZONE
TZID:UTC
BEGIN:STANDARD
TZOFFSETFROM:+0000
TZOFFSETTO:+0000
TZNAME:UTC
DTSTART:20230101T000000
END:STANDARD
END:VTIMEZONE
BEGIN:VEVENT
DTSTART;TZID=UTC:20240911T120000
DTEND;TZID=UTC:20240911T130000
DTSTAMP:20260423T063221
CREATED:20240715T230737Z
LAST-MODIFIED:20240715T230737Z
UID:7959-1726056000-1726059600@www.sylogist.com
SUMMARY:Payroll by Sylogist - Implementer - Pay Controls & Method Steps
DESCRIPTION:Payroll by Sylogist Free 1-hour Product Training
URL:https://www.sylogist.com/event/payroll-by-sylogist-implementer-pay-controls-method-steps/
LOCATION:Webcast
CATEGORIES:Webcast
ATTACH;FMTTYPE=image/webp:https://www.sylogist.com/wp-content/uploads/2024/04/Payroll-by-Sylogist-Blues-2000x800-1.png
END:VEVENT
END:VCALENDAR