BEGIN:VCALENDAR
VERSION:2.0
PRODID:-//sylogist.com - ECPv6.15.20//NONSGML v1.0//EN
CALSCALE:GREGORIAN
METHOD:PUBLISH
X-WR-CALNAME:sylogist.com
X-ORIGINAL-URL:https://www.sylogist.com
X-WR-CALDESC:Events for sylogist.com
REFRESH-INTERVAL;VALUE=DURATION:PT1H
X-Robots-Tag:noindex
X-PUBLISHED-TTL:PT1H
BEGIN:VTIMEZONE
TZID:UTC
BEGIN:STANDARD
TZOFFSETFROM:+0000
TZOFFSETTO:+0000
TZNAME:UTC
DTSTART:20230101T000000
END:STANDARD
END:VTIMEZONE
BEGIN:VEVENT
DTSTART;VALUE=DATE:20241021
DTEND;VALUE=DATE:20241025
DTSTAMP:20260423T063228
CREATED:20240716T235206Z
LAST-MODIFIED:20251110T105251Z
UID:8532-1729468800-1729814399@www.sylogist.com
SUMMARY:NetHope Global Summit 2024
DESCRIPTION:
URL:https://www.sylogist.com/event/nethope-global-summit-2024/
LOCATION:Washington\, DC Metropolitan Area\, USA\, Washington DC\, DC\, United States
CATEGORIES:Summit
ATTACH;FMTTYPE=image/webp:https://www.sylogist.com/wp-content/uploads/2024/07/Untitled-design-2.webp
END:VEVENT
END:VCALENDAR